BEGIN:VCALENDAR
VERSION:2.0
PRODID:-//Academia Fitness Militar - ECPv6.15.17.1//NONSGML v1.0//EN
CALSCALE:GREGORIAN
METHOD:PUBLISH
X-ORIGINAL-URL:https://academiafitnessmilitar.pt
X-WR-CALDESC:Eventos para Academia Fitness Militar
REFRESH-INTERVAL;VALUE=DURATION:PT1H
X-Robots-Tag:noindex
X-PUBLISHED-TTL:PT1H
BEGIN:VTIMEZONE
TZID:UTC
BEGIN:STANDARD
TZOFFSETFROM:+0000
TZOFFSETTO:+0000
TZNAME:UTC
DTSTART:20250101T000000
END:STANDARD
END:VTIMEZONE
BEGIN:VEVENT
DTSTART;TZID=UTC:20260303T193000
DTEND;TZID=UTC:20260522T203000
DTSTAMP:20260420T101712
CREATED:20260127T144448Z
LAST-MODIFIED:20260128T014512Z
UID:2671-1772566200-1779481800@academiafitnessmilitar.pt
SUMMARY:Programa Bootcamp Principiante Parque das Nações
DESCRIPTION:Programa Bootcamp Principiante — 12 semanas\nEste bootcamp foi desenvolvido para pessoas que pretendem iniciar ou retomar a prática de atividade física de forma progressiva\, estruturada e acompanhada\, num ambiente de grupo motivador\, disciplinado e seguro. \nO programa tem como objetivo melhorar a condição física geral\, promover hábitos de vida mais ativos e criar uma base sólida para a continuidade da prática de atividade física. \n\n\n  \n  \nPara quem é indicado?\nEste programa é indicado para: \n– Pessoas sem rotina regular de atividade física \n– Quem pretende melhorar a condição física geral \n– Quem procura estrutura\, acompanhamento e compromisso \n– Iniciantes ou pessoas a regressar após uma pausa prolongada \n\n\n  \nPara quem não é indicado?\nEste programa não é indicado para: \n– Pessoas que procuram treino avançado ou competitivo \n– Participantes com lesões ou limitações não avaliadas previamente \n– Quem não consegue assegurar uma participação regular \n\n\n  \nComo funcionam as sessões?\n– Sessões de treino em grupo orientadas por instrutores da Academia Fitness Militar \n– Exercícios adaptados ao nível dos participantes \n– Progressão gradual ao longo das semanas \n– Ambiente de entreajuda\, disciplina e motivação \nO foco do programa não é apenas o esforço físico\, mas a criação de consistência e compromisso ao longo do tempo. \n\n\n  \nO que é necessário para participar?\n– Roupa confortável \n– Calçado adequado \n– Garrafa de água \n– Vontade de iniciar um novo percurso \n\n\n  \nInformações do programa\n– Duração: 12 semanas \n– Período: 03 de março a 22 de maio \n– Horário: segundas\, quartas e sextas-feiras\, das 19h30 às 20h30 \n– Local: Parque das Nações \nPreço: 180€ (36 treinos ao longo de 12 semanas). \nAo submeter o formulário\, será posteriormente contactado para confirmação da inscrição e esclarecimento de eventuais dúvidas. \n  \nOs dados fornecidos são para uso exclusivo da Academia Fitness Militar e tratados com a devida confidencialidade. \n  \n\n                    Inscrição Bootcamp PrincipianteIndique o local onde deseja treinar.Prog Principiante Parque das NaçõesProg Principiante OeirasProg Principiante Cidade UniversitáriaNomeApelidosContacto telefónicoEmailData de NascimentoÁrea de residênciaNº de ContribuinteNúmero de Cartão de CidadãoObservações: Pretendo receber informações sobre futuros programas\, atividades\, treinos ou novidades da Academia Fitness Militar. Sim Não Li e aceito o regulamento e condições da Academia Fitness Militar  Autorizo o tratamento dos meus dados para efeitos de contacto e inscrição.Enviar
URL:https://academiafitnessmilitar.pt/event/programa-bootcamp-principiante/
LOCATION:Parque das Nações\, Parque das Nações\, Portugal
ATTACH;FMTTYPE=image/jpeg:https://academiafitnessmilitar.pt/wp-content/uploads/2026/01/destaque_resized_compressed_under_200kb.jpg
END:VEVENT
BEGIN:VEVENT
DTSTART;TZID=UTC:20260303T193000
DTEND;TZID=UTC:20260522T203000
DTSTAMP:20260420T101712
CREATED:20260128T013218Z
LAST-MODIFIED:20260128T014351Z
UID:2733-1772566200-1779481800@academiafitnessmilitar.pt
SUMMARY:Programa Bootcamp Principiante Oeiras
DESCRIPTION:Programa Bootcamp Principiante — 12 semanas\nEste bootcamp foi desenvolvido para pessoas que pretendem iniciar ou retomar a prática de atividade física de forma progressiva\, estruturada e acompanhada\, num ambiente de grupo motivador\, disciplinado e seguro. \nO programa tem como objetivo melhorar a condição física geral\, promover hábitos de vida mais ativos e criar uma base sólida para a continuidade da prática de atividade física. \n\n\n  \n  \nPara quem é indicado?\nEste programa é indicado para: \n– Pessoas sem rotina regular de atividade física \n– Quem pretende melhorar a condição física geral \n– Quem procura estrutura\, acompanhamento e compromisso \n– Iniciantes ou pessoas a regressar após uma pausa prolongada \n\n\n  \nPara quem não é indicado?\nEste programa não é indicado para: \n– Pessoas que procuram treino avançado ou competitivo \n– Participantes com lesões ou limitações não avaliadas previamente \n– Quem não consegue assegurar uma participação regular \n\n\n  \nComo funcionam as sessões?\n– Sessões de treino em grupo orientadas por instrutores da Academia Fitness Militar \n– Exercícios adaptados ao nível dos participantes \n– Progressão gradual ao longo das semanas \n– Ambiente de entreajuda\, disciplina e motivação \nO foco do programa não é apenas o esforço físico\, mas a criação de consistência e compromisso ao longo do tempo. \n\n\n  \nO que é necessário para participar?\n– Roupa confortável \n– Calçado adequado \n– Garrafa de água \n– Vontade de iniciar um novo percurso \n\n\n  \nInformações do programa\n– Duração: 12 semanas \n– Período: 03 de março a 22 de maio \n– Horário: segundas\, quartas e sextas-feiras\, das 19h30 às 20h30 \n– Local: Oeiras\, Praia da Torre \nPreço: 180€ (36 treinos ao longo de 12 semanas). \nAo submeter o formulário\, será posteriormente contactado para confirmação da inscrição e esclarecimento de eventuais dúvidas. \n  \nOs dados fornecidos são para uso exclusivo da Academia Fitness Militar e tratados com a devida confidencialidade. \n  \n\n                    Inscrição Bootcamp PrincipianteIndique o local onde deseja treinar.Prog Principiante Parque das NaçõesProg Principiante OeirasProg Principiante Cidade UniversitáriaNomeApelidosContacto telefónicoEmailData de NascimentoÁrea de residênciaNº de ContribuinteNúmero de Cartão de CidadãoObservações: Pretendo receber informações sobre futuros programas\, atividades\, treinos ou novidades da Academia Fitness Militar. Sim Não Li e aceito o regulamento e condições da Academia Fitness Militar  Autorizo o tratamento dos meus dados para efeitos de contacto e inscrição.Enviar
URL:https://academiafitnessmilitar.pt/event/programa-bootcamp-principiante-oeiras/
LOCATION:Oeiras\, Praia da Torre\, Portugal
ATTACH;FMTTYPE=image/jpeg:https://academiafitnessmilitar.pt/wp-content/uploads/2026/01/destaque_resized_compressed_under_200kb.jpg
END:VEVENT
BEGIN:VEVENT
DTSTART;TZID=UTC:20260303T193000
DTEND;TZID=UTC:20260522T203000
DTSTAMP:20260420T101712
CREATED:20260128T013846Z
LAST-MODIFIED:20260128T014624Z
UID:2736-1772566200-1779481800@academiafitnessmilitar.pt
SUMMARY:Programa Bootcamp Principiante Cidade Universitária
DESCRIPTION:Programa Bootcamp Principiante — 12 semanas\nEste bootcamp foi desenvolvido para pessoas que pretendem iniciar ou retomar a prática de atividade física de forma progressiva\, estruturada e acompanhada\, num ambiente de grupo motivador\, disciplinado e seguro. \nO programa tem como objetivo melhorar a condição física geral\, promover hábitos de vida mais ativos e criar uma base sólida para a continuidade da prática de atividade física. \n\n\n  \n  \nPara quem é indicado?\nEste programa é indicado para: \n– Pessoas sem rotina regular de atividade física \n– Quem pretende melhorar a condição física geral \n– Quem procura estrutura\, acompanhamento e compromisso \n– Iniciantes ou pessoas a regressar após uma pausa prolongada \n\n\n  \nPara quem não é indicado?\nEste programa não é indicado para: \n– Pessoas que procuram treino avançado ou competitivo \n– Participantes com lesões ou limitações não avaliadas previamente \n– Quem não consegue assegurar uma participação regular \n\n\n  \nComo funcionam as sessões?\n– Sessões de treino em grupo orientadas por instrutores da Academia Fitness Militar \n– Exercícios adaptados ao nível dos participantes \n– Progressão gradual ao longo das semanas \n– Ambiente de entreajuda\, disciplina e motivação \nO foco do programa não é apenas o esforço físico\, mas a criação de consistência e compromisso ao longo do tempo. \n\n\n  \nO que é necessário para participar?\n– Roupa confortável \n– Calçado adequado \n– Garrafa de água \n– Vontade de iniciar um novo percurso \n\n\n  \nInformações do programa\n– Duração: 12 semanas \n– Período: 03 de março a 22 de maio \n– Horário: segundas\, quartas e sextas-feiras\, das 19h30 às 20h30 \n– Local: Cidade Universitária \nPreço: 180€ (36 treinos ao longo de 12 semanas). \nAo submeter o formulário\, será posteriormente contactado para confirmação da inscrição e esclarecimento de eventuais dúvidas. \n  \nOs dados fornecidos são para uso exclusivo da Academia Fitness Militar e tratados com a devida confidencialidade. \n  \n\n                    Inscrição Bootcamp PrincipianteIndique o local onde deseja treinar.Prog Principiante Parque das NaçõesProg Principiante OeirasProg Principiante Cidade UniversitáriaNomeApelidosContacto telefónicoEmailData de NascimentoÁrea de residênciaNº de ContribuinteNúmero de Cartão de CidadãoObservações: Pretendo receber informações sobre futuros programas\, atividades\, treinos ou novidades da Academia Fitness Militar. Sim Não Li e aceito o regulamento e condições da Academia Fitness Militar  Autorizo o tratamento dos meus dados para efeitos de contacto e inscrição.Enviar
URL:https://academiafitnessmilitar.pt/event/programa-bootcamp-principiante-cidade-universitaria/
LOCATION:Cidade Universitária\, Cidade Universitária\, Portugal
ATTACH;FMTTYPE=image/jpeg:https://academiafitnessmilitar.pt/wp-content/uploads/2026/01/destaque_resized_compressed_under_200kb.jpg
END:VEVENT
END:VCALENDAR